BEGIN:VCALENDAR
VERSION:2.0
CALSCALE:GREGORIAN
PRODID:adamgibbons/ics
METHOD:PUBLISH
X-PUBLISHED-TTL:PT1H
BEGIN:VEVENT
UID:3mweW98TPRrOfQ1Tn7rcL
SUMMARY:Ukrainian Mathematics Days 2026
DTSTAMP:20260330T195000Z
DTSTART;VALUE=DATE:20260603
DTEND;VALUE=DATE:20260604
DESCRIPTION:The UMD2026 conference aims to support the Ukrainian mathematic
	al community while strengthening scientific ties between France and Ukrain
	e. It provides a unique forum to exchange ideas and foster collaborations 
	with — and within — the Ukrainian mathematical community in Europe.
URL:https://ukrmathday2026.sciencesconf.org/?lang=en
LOCATION:Paris\, France
END:VEVENT
END:VCALENDAR
