BEGIN:VCALENDAR
VERSION:2.0
CALSCALE:GREGORIAN
PRODID:adamgibbons/ics
METHOD:PUBLISH
X-PUBLISHED-TTL:PT1H
BEGIN:VEVENT
UID:eDQKMWbWSPgfKtlFRbnES
SUMMARY:Recreational Mathematics Colloquium 8 - G4G Europe
DTSTAMP:20260330T195000Z
DTSTART;VALUE=DATE:20250127
DTEND;VALUE=DATE:20250129
DESCRIPTION:The great event on Recreational Mathematics and Mathematical Ma
	gic. Honoring Martin Gardner.
URL:https://ludicum.org/rmc-viii-2025/
LOCATION:Lisbon\, Portugal
END:VEVENT
END:VCALENDAR
